Workbook

Sheet И. Д.
A1: Перечень базовых исходных данных для экономической оценки месторождения:
A3: Показатели | E3: Ед. изм. | F3: Базовые значения для различных вариантов
F4: Борт 1 | G4: Борт 2 | H4: Борт 3
A5: Горная часть
A6: Коэффициент потерь** | E6: % | F6: 7.54 | G6: =F6 -> 7.54 | H6: =G6 -> 7.54
A7: Коэффициент разубоживания** | E7: % | F7: 12.13 | G7: =F7 -> 12.13 | H7: =G7 -> 12.13
A8: В том числе по залежам | B8: ='П и Р для залежей'!A2 -> Кам | C8: Потери | E8: % | F8: ='П и Р для залежей'!B2 -> 7 | G8: =F8 -> 7 | H8: =G8 -> 7
C9: Разубоживание | E9: % | F9: ='П и Р для залежей'!C2 -> 12.2 | G9: =F9 -> 12.2 | H9: =G9 -> 12.2
B10: ='П и Р для залежей'!A3 -> Талов | C10: Потери | E10: % | F10: ='П и Р для залежей'!B3 -> 7.72 | G10: =F10 -> 7.72 | H10: =G10 -> 7.72
C11: Разубоживание | E11: % | F11: ='П и Р для залежей'!C3 -> 12.78 | G11: =F11 -> 12.78 | H11: =G11 -> 12.78
B12: ='П и Р для залежей'!A4 -> Осн | C12: Потери | E12: % | F12: ='П и Р для залежей'!B4 -> 7.2 | G12: =F12 -> 7.2 | H12: =G12 -> 7.2
C13: Разубоживание | E13: % | F13: ='П и Р для залежей'!C4 -> 12.9 | G13: =F13 -> 12.9 | H13: =G13 -> 12.9
B14: ='П и Р для залежей'!A5 -> Промеж | C14: Потери | E14: % | F14: ='П и Р для залежей'!B5 -> 11.4 | G14: =F14 -> 11.4 | H14: =G14 -> 11.4
C15: Разубоживание | E15: % | F15: ='П и Р для залежей'!C5 -> 13.6 | G15: =F15 -> 13.6 | H15: =G15 -> 13.6
B16: ='П и Р для залежей'!A6 -> Восточ | C16: Потери | E16: % | F16: ='П и Р для залежей'!B6 -> 7.2 | G16: =F16 -> 7.2 | H16: =G16 -> 7.2
C17: Разубоживание | E17: % | F17: ='П и Р для залежей'!C6 -> 12.3 | G17: =F17 -> 12.3 | H17: =G17 -> 12.3
B18: ='П и Р для залежей'!A7 -> Юго-Вост | C18: Потери | E18: % | F18: ='П и Р для залежей'!B7 -> 6.2 | G18: =F18 -> 6.2 | H18: =G18 -> 6.2
C19: Разубоживание | E19: % | F19: ='П и Р для залежей'!C7 -> 10.9 | G19: =F19 -> 10.9 | H19: =G19 -> 10.9
B20: ='П и Р для залежей'!A8 -> Запад | C20: Потери | E20: % | F20: ='П и Р для залежей'!B8 -> 7.4 | G20: =F20 -> 7.4 | H20: =G20 -> 7.4
C21: Разубоживание | E21: % | F21: ='П и Р для залежей'!C8 -> 11.3 | G21: =F21 -> 11.3 | H21: =G21 -> 11.3
B22: ='П и Р для залежей'!A9 -> Центр | C22: Потери | E22: % | F22: ='П и Р для залежей'!B9 -> 7.4 | G22: =F22 -> 7.4 | H22: =G22 -> 7.4
C23: Разубоживание | E23: % | F23: ='П и Р для залежей'!C9 -> 11.3 | G23: =F23 -> 11.3 | H23: =G23 -> 11.3
A24: Переработка
A25: Данные по извлечению:
A26: Обогащение | B26: Медный концентрат
B27: Выход концентрата | E27: % | F27: ='Данные по переработке'!B3 -> 7.15
B28: Извлечение меди | E28: % | F28: ='Данные по переработке'!H3 -> 87.65
B29: Извлечение золота | E29: % | F29: ='Данные по переработке'!K3 -> 49
B30: Извлечение серебра | E30: % | F30: ='Данные по переработке'!L3 -> 58.27
B31: Извлечение цинка* | E31: % | F31: ='Данные по переработке'!J3 -> 5.64
B32: Извлечение свинца* | E32: % | F32: ='Данные по переработке'!I3 -> 16.47
B33: Цинковый концентрат
B34: Выход концентрата | E34: % | F34: ='Данные по переработке'!B5 -> 8.14
B35: Извлечение цинка | E35: % | F35: ='Данные по переработке'!J5 -> 85.04
B36: Извлечение золота | E36: % | F36: ='Данные по переработке'!K5 -> 8.84
B37: Извлечение серебра | E37: % | F37: ='Данные по переработке'!L5 -> 11.15
B38: Извлечение меди* | E38: % | F38: ='Данные по переработке'!H5 -> 4.26
B39: Извлечение свинца* | E39: % | F39: ='Данные по переработке'!I5 -> 9.95
B40: Свинцовый концентрат
B41: Выход концентрата | E41: % | F41: ='Данные по переработке'!B4 -> 2.02
...

Sheet ТЭП
A1: Основные ТЭП отработки минеральных ресурсов месторождения подземным способом
B3: Показатели | C3: Ед.изм. | D3: Борт 0.9 | E3: Прирезка | F3: Борт 1.2 | G3: Прирезка | H3: Брорт 1.5
B5: Минеральные ресурсы | C5: тыс.т. | D5: ='ФЭМ 0.9'!D7 -> 17729.408 | E5: =F5-D5 -> -1214.5063 | F5: ='ФЭМ 1.2'!D7 -> 16514.902 | G5: =H5-F5 -> -1254.5148 | H5: ='ФЭМ 1.5'!D7 -> 15260.387
B6: Содержание металла
B7: - медь | C7: % | D7: ='ФЭМ 0.9'!D9 -> 2.0488878 | E7: =F7-D7 -> 0.091100815 | F7: ='ФЭМ 1.2'!D9 -> 2.1399887 | G7: =H7-F7 -> 0.082285162 | H7: ='ФЭМ 1.5'!D9 -> 2.2222738
B8: - цинк | C8: % | D8: ='ФЭМ 0.9'!D10 -> 4.0424732 | E8: =F8-D8 -> 0.27833096 | F8: ='ФЭМ 1.2'!D10 -> 4.3208042 | G8: =H8-F8 -> 0.31496009 | H8: ='ФЭМ 1.5'!D10 -> 4.6357643
B9: - свинец | C9: % | D9: ='ФЭМ 0.9'!D11 -> 1.2486675 | E9: =F9-D9 -> 0.084648322 | F9: ='ФЭМ 1.2'!D11 -> 1.3333159 | G9: =H9-F9 -> 0.094552336 | H9: ='ФЭМ 1.5'!D11 -> 1.4278682
B10: - золото | C10: г/т | D10: ='ФЭМ 0.9'!D12 -> 0.84679021 | E10: =F10-D10 -> 0.051616291 | F10: ='ФЭМ 1.2'!D12 -> 0.8984065 | G10: =H10-F10 -> 0.056263212 | H10: ='ФЭМ 1.5'!D12 -> 0.95466971
B11: - серебро | C11: г/т | D11: ='ФЭМ 0.9'!D13 -> 96.06135 | E11: =F11-D11 -> 6.3650103 | F11: ='ФЭМ 1.2'!D13 -> 102.42636 | G11: =H11-F11 -> 7.0109988 | H11: ='ФЭМ 1.5'!D13 -> 109.43736
B12: Количество металла
B13: - медь | C13: т. | D13: ='ФЭМ 0.9'!D15 -> 363255.69 | E13: =F13-D13 -> -9838.6621 | F13: ='ФЭМ 1.2'!D15 -> 353417.03 | G13: =H13-F13 -> -14289.44 | H13: ='ФЭМ 1.5'!D15 -> 339127.59
B14: - цинк | C14: т. | D14: ='ФЭМ 0.9'!D16 -> 716706.59 | E14: =F14-D14 -> -3130.0069 | F14: ='ФЭМ 1.2'!D16 -> 713576.58 | G14: =H14-F14 -> -6140.999 | H14: ='ФЭМ 1.5'!D16 -> 707435.58
B15: - свинец | C15: т. | D15: ='ФЭМ 0.9'!D17 -> 221381.37 | E15: =F15-D15 -> -1185.5587 | F15: ='ФЭМ 1.2'!D17 -> 220195.81 | G15: =H15-F15 -> -2297.5921 | H15: ='ФЭМ 1.5'!D17 -> 217898.22
B16: - золото | C16: кг. | D16: ='ФЭМ 0.9'!D18 -> 15013.089 | E16: =F16-D16 -> -175.99407 | F16: ='ФЭМ 1.2'!D18 -> 14837.095 | G16: =H16-F16 -> -268.46584 | H16: ='ФЭМ 1.5'!D18 -> 14568.63
B17: - серебро | C17: кг. | D17: ='ФЭМ 0.9'!D19 -> 1703110.9 | E17: =F17-D17 -> -11549.596 | F17: ='ФЭМ 1.2'!D19 -> 1691561.3 | G17: =H17-F17 -> -21504.829 | H17: ='ФЭМ 1.5'!D19 -> 1670056.5
B18: Потери | C18: % | D18: ='ФЭМ 0.9'!D20 -> 0.0754 | E18: =F18-D18 -> 0 | F18: ='ФЭМ 1.2'!D20 -> 0.0754 | G18: =H18-F18 -> 0 | H18: ='ФЭМ 1.5'!D20 -> 0.0754
B19: Разубоживание | C19: % | D19: ='ФЭМ 0.9'!D21 -> 0.1213 | E19: =F19-D19 -> 0 | F19: ='ФЭМ 1.2'!D21 -> 0.1213 | G19: =H19-F19 -> 0 | H19: ='ФЭМ 1.5'!D21 -> 0.1213
B20: Эксплуатационная руда | C20: тыс. т | D20: ='ФЭМ 0.9'!D22 -> 18655.526 | E20: =F20-D20 -> -1277.947 | F20: ='ФЭМ 1.2'!D22 -> 17377.579 | G20: =H20-F20 -> -1320.046 | H20: ='ФЭМ 1.5'!D22 -> 16057.533
B21: Содержание в эксплуатационных запасах:
B22: - медь | C22: % | D22: ='ФЭМ 0.9'!D24 -> 1.8003566 | E22: =F22-D22 -> 0.080049146 | F22: ='ФЭМ 1.2'!D24 -> 1.8804058 | G22: =H22-F22 -> 0.13401842 | H22: ='ФЭМ 1.5'!D24 -> 2.0144242
B23: - цинк | C23: % | D23: ='ФЭМ 0.9'!D25 -> 3.5521218 | E23: =F23-D23 -> 0.24456936 | F23: ='ФЭМ 1.2'!D25 -> 3.7966911 | G23: =H23-F23 -> 0.28149133 | H23: ='ФЭМ 1.5'!D25 -> 4.0781825
B24: - свинец | C24: % | D24: ='ФЭМ 0.9'!D26 -> 1.097203 | E24: =F24-D24 -> 0.074381325 | F24: ='ФЭМ 1.2'!D26 -> 1.1715844 | G24: =H24-F24 -> 0.086669707 | H24: ='ФЭМ 1.5'!D26 -> 1.2582541
B25: - золото | C25: г/т | D25: ='ФЭМ 0.9'!D27 -> 0.74406908 | E25: =F25-D25 -> 0.04533893 | F25: ='ФЭМ 1.2'!D27 -> 0.78940801 | G25: =H25-F25 -> 0.057853315 | H25: ='ФЭМ 1.5'!D27 -> 0.84726132
B26: - серебро | C26: г/т | D26: ='ФЭМ 0.9'!D28 -> 84.409091 | E26: =F26-D26 -> 5.5929739 | F26: ='ФЭМ 1.2'!D28 -> 90.002065 | G26: =H26-F26 -> 6.6395246 | H26: ='ФЭМ 1.5'!D28 -> 96.64159
B27: Количество металла в эксплуатационных запасах:
B28: - медь | C28: тонн | D28: ='ФЭМ 0.9'!D30 -> 335866 | E28: =F28-D28 -> -9097 | F28: ='ФЭМ 1.2'!D30 -> 326769 | G28: =H28-F28 -> -10897.233 | H28: ='ФЭМ 1.5'!D30 -> 315871.77
B29: - цинк | C29: тонн | D29: ='ФЭМ 0.9'!D31 -> 662667 | E29: =F29-D29 -> -2894 | F29: ='ФЭМ 1.2'!D31 -> 659773 | G29: =H29-F29 -> -20367.795 | H29: ='ФЭМ 1.5'!D31 -> 639405.2
B30: - свинец | C30: тонн | D30: ='ФЭМ 0.9'!D32 -> 204689 | E30: =F30-D30 -> -1096 | F30: ='ФЭМ 1.2'!D32 -> 203593 | G30: =H30-F30 -> -6314.051 | H30: ='ФЭМ 1.5'!D32 -> 197278.95
B31: - золото | C31: кг | D31: ='ФЭМ 0.9'!D33 -> 13881 | E31: =F31-D31 -> -163 | F31: ='ФЭМ 1.2'!D33 -> 13718 | G31: =H31-F31 -> -433.60262 | H31: ='ФЭМ 1.5'!D33 -> 13284.397
B32: - серебро | C32: кг | D32: ='ФЭМ 0.9'!D34 -> 1574696 | E32: =F32-D32 -> -10678 | F32: ='ФЭМ 1.2'!D34 -> 1564018 | G32: =H32-F32 -> -48782.747 | H32: ='ФЭМ 1.5'!D34 -> 1515235.3
B33: Годовая производительность по добыче руды | C33: тыс. т | D33: ='ФЭМ 0.9'!I22 -> 1500 | F33: ='ФЭМ 1.2'!I22 -> 1500 | H33: ='ФЭМ 1.5'!J22 -> 1500
B34: С учетом затугания | C34: тыс. т | D34: =AVERAGE('ФЭМ 0.9'!F22:S22) -> 1332.5376 | F34: =AVERAGE('ФЭМ 1.2'!F22:R22) -> 1336.7368 | H34: =AVERAGE('ФЭМ 1.5'!F22:Q22) -> 1338.1277
B35: ПЕРЕРАБОТКА
B36: Общий объем руды для переработки | C36: тыс. т | D36: =D20 -> 18655.526 | E36: =E20 -> -1277.947 | F36: =F20 -> 17377.579 | G36: =G20 -> -1320.046 | H36: =H20 -> 16057.533
B37: Годовой объем руды, поступающей на ОФ (среднее значение) | C37: тыс. т | D37: =D20/'ФЭМ 0.9'!S6 -> 1332.5376 | E37: =F37-D37 -> 4.1992747 | F37: =F20/'ФЭМ 1.2'!R6 -> 1336.7368 | G37: =H37-F37 -> 1.3909038 | H37: =H20/'ФЭМ 1.5'!Q6 -> 1338.1277
B38: Выход концентратов:
B39: -медного | C39: % | D39: ='ФЭМ 0.9'!D38 -> 0.0715 | E39: =F39-D39 -> 0 | F39: ='ФЭМ 1.2'!D38 -> 0.0715 | G39: =H39-F39 -> 0 | H39: ='ФЭМ 1.5'!D38 -> 0.0715
B40: -свинцового | C40: % | D40: ='ФЭМ 0.9'!D39 -> 0.0202 | E40: =F40-D40 -> 0 | F40: ='ФЭМ 1.2'!D39 -> 0.0202 | G40: =H40-F40 -> 0 | H40: ='ФЭМ 1.5'!D39 -> 0.0202
B41: -цинкового | C41: % | D41: ='ФЭМ 0.9'!D40 -> 0.0814 | E41: =F41-D41 -> 0 | F41: ='ФЭМ 1.2'!D40 -> 0.0814 | G41: =H41-F41 -> 0 | H41: ='ФЭМ 1.5'!D40 -> 0.0814
B43: Количество концентратов:
...

Sheet ФЭМ 0.9
L1: 1
B2: ПРИЛОЖЕНИЕ ___ Таблица __
B3: Финансово-экономическая модель отработки минеральных ресурсов месторождения Артемьевское подземным способом (БОРТ 0.9)
E4: 2023 | F4: 2024 | G4: 2025 | H4: 2026 | I4: 2027 | J4: 2028 | K4: 2029 | L4: 2030 | M4: 2031 | N4: 2032 | O4: 2033 | P4: 2034 | Q4: 2035 | R4: 2036 | S4: 2037
B5: Показатели | C5: Ед.изм. | D5: Всего | F5: в том числе по годам
E6: -1 | F6: 1 | G6: =F6+1 -> 2 | H6: =G6+1 -> 3 | I6: =H6+1 -> 4 | J6: =I6+1 -> 5 | K6: =J6+1 -> 6 | L6: =K6+1 -> 7 | M6: =L6+1 -> 8 | N6: =M6+1 -> 9 | ... S6: =R6+1 -> 14
B7: Минеральные ресурсы | C7: тыс.т. | D7: ='Расч эксп запасов'!D6 -> 17729.408
B8: Содержание металла
B9: - медь | C9: % | D9: ='Расч эксп запасов'!E6 -> 2.0488878
B10: - цинк | C10: % | D10: ='Расч эксп запасов'!F6 -> 4.0424732
B11: - свинец | C11: % | D11: ='Расч эксп запасов'!G6 -> 1.2486675
B12: - золото | C12: г/т | D12: ='Расч эксп запасов'!H6 -> 0.84679021
B13: - серебро | C13: г/т | D13: ='Расч эксп запасов'!I6 -> 96.06135
B14: Количество металла
B15: - медь | C15: т. | D15: ='Расч эксп запасов'!J6 -> 363255.69
B16: - цинк | C16: т. | D16: ='Расч эксп запасов'!K6 -> 716706.59
B17: - свинец | C17: т. | D17: ='Расч эксп запасов'!L6 -> 221381.37
B18: - золото | C18: кг. | D18: ='Расч эксп запасов'!M6 -> 15013.089
B19: - серебро | C19: кг. | D19: ='Расч эксп запасов'!N6 -> 1703110.9
B20: Потери | C20: % | D20: ='Расч эксп запасов'!C11/100 -> 0.0754
B21: Разубоживание | C21: % | D21: ='Расч эксп запасов'!C16/100 -> 0.1213
B22: Эксплуатационная руда | C22: тыс. т | D22: =SUM(F22:S22) -> 18655.526 | F22: =календари!F6 -> 1250 | G22: =календари!G6 -> 1300 | H22: =календари!H6 -> 1400 | I22: =календари!I6 -> 1500 | J22: =календари!J6 -> 1500 | K22: =календари!K6 -> 1500 | L22: =календари!L6 -> 1500 | M22: =календари!M6 -> 1500 | ... S22: =календари!S6 -> 405.526
B23: Содержание в эксплуатационных запасах:
B24: - медь | C24: % | D24: =AVERAGE(F24:S24) -> 1.8003566 | F24: =F30/F22/10 -> 1.8003566 | G24: =G30/G22/10 -> 1.8003566 | H24: =H30/H22/10 -> 1.8003566 | I24: =I30/I22/10 -> 1.8003566 | J24: =J30/J22/10 -> 1.8003566 | K24: =K30/K22/10 -> 1.8003566 | L24: =L30/L22/10 -> 1.8003566 | M24: =M30/M22/10 -> 1.8003566 | ... S24: =S30/S22/10 -> 1.8003566
B25: - цинк | C25: % | D25: =AVERAGE(F25:S25) -> 3.5521218 | F25: =F31/F22/10 -> 3.5521218 | G25: =G31/G22/10 -> 3.5521218 | H25: =H31/H22/10 -> 3.5521218 | I25: =I31/I22/10 -> 3.5521218 | J25: =J31/J22/10 -> 3.5521218 | K25: =K31/K22/10 -> 3.5521218 | L25: =L31/L22/10 -> 3.5521218 | M25: =M31/M22/10 -> 3.5521218 | ... S25: =S31/S22/10 -> 3.5521218
B26: - свинец | C26: % | D26: =AVERAGE(F26:S26) -> 1.097203 | F26: =F32/F22/10 -> 1.097203 | G26: =G32/G22/10 -> 1.097203 | H26: =H32/H22/10 -> 1.097203 | I26: =I32/I22/10 -> 1.097203 | J26: =J32/J22/10 -> 1.097203 | K26: =K32/K22/10 -> 1.097203 | L26: =L32/L22/10 -> 1.097203 | M26: =M32/M22/10 -> 1.097203 | ... S26: =S32/S22/10 -> 1.097203
B27: - золото | C27: г/т | D27: =AVERAGE(F27:S27) -> 0.74406908 | F27: =F33/F22 -> 0.74406908 | G27: =G33/G22 -> 0.74406908 | H27: =H33/H22 -> 0.74406908 | I27: =I33/I22 -> 0.74406908 | J27: =J33/J22 -> 0.74406908 | K27: =K33/K22 -> 0.74406908 | L27: =L33/L22 -> 0.74406908 | M27: =M33/M22 -> 0.74406908 | ... S27: =S33/S22 -> 0.74406908
B28: - серебро | C28: г/т | D28: =AVERAGE(F28:S28) -> 84.409091 | F28: =F34/F22 -> 84.409091 | G28: =G34/G22 -> 84.409091 | H28: =H34/H22 -> 84.409091 | I28: =I34/I22 -> 84.409091 | J28: =J34/J22 -> 84.409091 | K28: =K34/K22 -> 84.409091 | L28: =L34/L22 -> 84.409091 | M28: =M34/M22 -> 84.409091 | ... S28: =S34/S22 -> 84.409091
B29: Количество металла в эксплуатационных запасах:
B30: - медь | C30: тонн | D30: =SUM(F30:S30) -> 335866 | F30: =календари!F12*1000 -> 22504.458 | G30: =календари!G12*1000 -> 23404.636 | H30: =календари!H12*1000 -> 25204.993 | I30: =календари!I12*1000 -> 27005.35 | J30: =календари!J12*1000 -> 27005.35 | K30: =календари!K12*1000 -> 27005.35 | L30: =календари!L12*1000 -> 27005.35 | M30: =календари!M12*1000 -> 27005.35 | ... S30: =календари!S12*1000 -> 7300.9142
B31: - цинк | C31: тонн | D31: =SUM(F31:S31) -> 662667 | F31: =календари!F13*1000 -> 44401.522 | G31: =календари!G13*1000 -> 46177.583 | H31: =календари!H13*1000 -> 49729.705 | I31: =календари!I13*1000 -> 53281.827 | J31: =календари!J13*1000 -> 53281.827 | K31: =календари!K13*1000 -> 53281.827 | L31: =календари!L13*1000 -> 53281.827 | M31: =календари!M13*1000 -> 53281.827 | ... S31: =календари!S13*1000 -> 14404.777
B32: - свинец | C32: тонн | D32: =SUM(F32:S32) -> 204689 | F32: =календари!F14*1000 -> 13715.038 | G32: =календари!G14*1000 -> 14263.64 | H32: =календари!H14*1000 -> 15360.843 | I32: =календари!I14*1000 -> 16458.046 | J32: =календари!J14*1000 -> 16458.046 | K32: =календари!K14*1000 -> 16458.046 | L32: =календари!L14*1000 -> 16458.046 | M32: =календари!M14*1000 -> 16458.046 | ... S32: =календари!S14*1000 -> 4449.4436
B33: - золото | C33: кг | D33: =SUM(F33:S33) -> 13881 | F33: =календари!F15 -> 930.08635 | G33: =календари!G15 -> 967.2898 | H33: =календари!H15 -> 1041.6967 | I33: =календари!I15 -> 1116.1036 | J33: =календари!J15 -> 1116.1036 | K33: =календари!K15 -> 1116.1036 | L33: =календари!L15 -> 1116.1036 | M33: =календари!M15 -> 1116.1036 | ... S33: =календари!S15 -> 301.73936
B34: - серебро | C34: кг | D34: =SUM(F34:S34) -> 1574696 | F34: =календари!F16 -> 105511.36 | G34: =календари!G16 -> 109731.82 | H34: =календари!H16 -> 118172.73 | I34: =календари!I16 -> 126613.64 | J34: =календари!J16 -> 126613.64 | K34: =календари!K16 -> 126613.64 | L34: =календари!L16 -> 126613.64 | M34: =календари!M16 -> 126613.64 | ... S34: =календари!S16 -> 34230.081
B35: ПЕРЕРАБОТКА
B36: Годовой объем руды, поступающей на ОФ | C36: тыс. т | D36: =SUM(F36:S36) -> 18655.526 | F36: =F22 -> 1250 | G36: =G22 -> 1300 | H36: =H22 -> 1400 | I36: =I22 -> 1500 | J36: =J22 -> 1500 | K36: =K22 -> 1500 | L36: =L22 -> 1500 | M36: =M22 -> 1500 | ... S36: =S22 -> 405.526
B37: Выход концентратов:
B38: -медного | C38: % | D38: ='Данные по переработке'!B3/100 -> 0.0715 | F38: =$D$38 -> 0.0715 | G38: =$D$38 -> 0.0715 | H38: =$D$38 -> 0.0715 | I38: =$D$38 -> 0.0715 | J38: =$D$38 -> 0.0715 | K38: =$D$38 -> 0.0715 | L38: =$D$38 -> 0.0715 | M38: =$D$38 -> 0.0715 | ... S38: =$D$38 -> 0.0715
B39: -свинцового | C39: % | D39: ='Данные по переработке'!B4/100 -> 0.0202 | F39: =$D$39 -> 0.0202 | G39: =$D$39 -> 0.0202 | H39: =$D$39 -> 0.0202 | I39: =$D$39 -> 0.0202 | J39: =$D$39 -> 0.0202 | K39: =$D$39 -> 0.0202 | L39: =$D$39 -> 0.0202 | M39: =$D$39 -> 0.0202 | ... S39: =$D$39 -> 0.0202
B40: -цинкового | C40: % | D40: ='Данные по переработке'!B5/100 -> 0.0814 | F40: =$D$40 -> 0.0814 | G40: =$D$40 -> 0.0814 | H40: =$D$40 -> 0.0814 | I40: =$D$40 -> 0.0814 | J40: =$D$40 -> 0.0814 | K40: =$D$40 -> 0.0814 | L40: =$D$40 -> 0.0814 | M40: =$D$40 -> 0.0814 | ... S40: =$D$40 -> 0.0814
...

Sheet Запасы
B3: Эксплуатационные запасы
B4: ПГР | C4: Геологические запасы | K4: Эксплуатационные запасы
C5: Руда | F5: Металл | M5: Руда | N5: Метал
C6: Объем, м3 | D6: Масса, т | E6: Об. вес, т/м3 | F6: Cu,% | G6: Zn,% | H6: Pb,% | I6: Au, г/т/кг | J6: Ag, г/т/кг | K6: Потери, % | L6: Разубоживание, % | M6: Всего руды | N6: Cu, %/т | O6: Zn,% | P6: Pb,% | Q6: Au, г/т | R6: Ag, г/т/кг
B7: Бортовое содержание 0,9
C8: =D8/E8 -> 4677944.2 | D8: 17729408 | E8: 3.79 | F8: 2.0488878 | G8: 4.0424732 | H8: 1.2486675 | I8: 0.84679021 | J8: 96.06135 | K8: 7.54 | L8: 12.13 | M8: =D8*((100-K8)/100)/((100-L8)/100) -> 18655526 | N8: =N9/$M8*100 -> 1.8003577 | O8: =O9/$M8*100 -> 3.5521212 | P8: =P9/$M8*100 -> 1.0972042 | Q8: =Q9/$M8*1000 -> 0.74407456 | R8: =R9/$M8*1000 -> 84.409108
F9: =$D8*F8/100 -> 363255.69 | G9: =$D8*G8/100 -> 716706.59 | H9: =$D8*H8/100 -> 221381.37 | I9: =$D8*I8/1000 -> 15013.089 | J9: =$D8*J8/1000 -> 1703110.9 | N9: =F9*((100-$K8)/100) -> 335866.21 | O9: =G9*((100-$K8)/100) -> 662666.91 | P9: =H9*((100-$K8)/100) -> 204689.21 | Q9: =I9*((100-$K8)/100) -> 13881.103 | R9: =J9*((100-$K8)/100) -> 1574696.3
B18: Итого по бортовому содержанию 0,9 | C18: =SUM(C8:C15) -> 4677944.2 | D18: =SUM(D8:D17) -> 17729408 | E18: 3.15 | F18: =F19/D18*100 -> 2.0488878 | G18: =G19/D18*100 -> 4.0424732 | H18: =H19/D18*100 -> 1.2486675 | I18: =I19/D18*1000 -> 0.84679021 | J18: =J19/D18*1000 -> 96.06135 | M18: =SUM(M8:M17) -> 18655526 | N18: =N19/M18*100 -> 1.8003577 | O18: =O19/M18*100 -> 3.5521212 | P18: =P19/M18*100 -> 1.0972042 | Q18: =Q19/M18*1000 -> 0.74407456 | R18: =R19/$M18*1000 -> 84.409108
F19: =F9+F11+F13+F15+F17 -> 363255.69 | G19: =G9+G11+G13+G15+G17 -> 716706.59 | H19: =H9+H11+H13+H15+H17 -> 221381.37 | I19: =I9+I11+I13+I15+I17 -> 15013.089 | J19: =J9+J11+J13+J15+J17 -> 1703110.9 | N19: =N9+N11+N13+N15+N17 -> 335866.21 | O19: =O9+O11+O13+O15+O17 -> 662666.91 | P19: =P9+P11+P13+P15+P17 -> 204689.21 | Q19: =Q9+Q11+Q13+Q15+Q17 -> 13881.103 | R19: =R9+R11+R13+R15+R17 -> 1574696.3
B20: Бортовое содержание 1,2
C21: =D21/E21 -> 4357494 | D21: 16514902 | E21: 3.79 | F21: 2.1399887 | G21: 4.3208042 | H21: 1.3333159 | I21: 0.8984065 | J21: 102.42636 | K21: 7.54 | L21: 12.13 | M21: =D21*((100-K21)/100)/((100-L21)/100) -> 17377579 | N21: =N22/$M21*100 -> 1.880408 | O21: =O22/$M21*100 -> 3.7966906 | P21: =P22/$M21*100 -> 1.1715846 | Q21: =Q22/$M21*1000 -> 0.78942979 | R21: =R22/$M21*1000 -> 90.002043
F22: =$D21*F21/100 -> 353417.03 | G22: =$D21*G21/100 -> 713576.58 | H22: =$D21*H21/100 -> 220195.81 | I22: =$D21*I21/1000 -> 14837.095 | J22: =$D21*J21/1000 -> 1691561.3 | N22: =F22*((100-$K21)/100) -> 326769.39 | O22: =G22*((100-$K21)/100) -> 659772.91 | P22: =H22*((100-$K21)/100) -> 203593.04 | Q22: =I22*((100-$K21)/100) -> 13718.378 | R22: =J22*((100-$K21)/100) -> 1564017.6
B29: Итого по бортовому содержанию 1,2 | C29: =SUM(C21:C28) -> 4357494 | D29: =SUM(D21:D28) -> 16514902 | E29: =E21 -> 3.79 | F29: =F30/D29*100 -> 2.1399887 | G29: =G30/D29*100 -> 4.3208042 | H29: =H30/D29*100 -> 1.3333159 | I29: =I30/D29*1000 -> 0.8984065 | J29: =J30/D29*1000 -> 102.42636 | M29: =SUM(M21:M28) -> 17377579 | N29: =N30/M29*100 -> 1.880408 | O29: =O30/M29*100 -> 3.7966906 | P29: =P30/M29*100 -> 1.1715846 | Q29: =Q30/M29*1000 -> 0.78942979 | R29: =R30/$M29*1000 -> 90.002043
F30: =F22+F24+F26+F28 -> 353417.03 | G30: =G22+G24+G26+G28 -> 713576.58 | H30: =H22+H24+H26+H28 -> 220195.81 | I30: =I22+I24+I26+I28 -> 14837.095 | J30: =J22+J24+J26+J28 -> 1691561.3 | N30: =N22+N24+N26+N28 -> 326769.39 | O30: =O22+O24+O26+O28 -> 659772.91 | P30: =P22+P24+P26+P28 -> 203593.04 | Q30: =Q22+Q24+Q26+Q28 -> 13718.378 | R30: =R22+R24+R26+R28 -> 1564017.6
B31: Бортовое содержание 1,5
C32: =D32/E32 -> 4026487.4 | D32: 15260387 | E32: 3.79 | F32: 2.2222738 | G32: 4.6357643 | H32: 1.4278682 | I32: 0.95466971 | J32: 109.43736 | K32: 7.54 | L32: 12.13 | M32: =D32*((100-K32)/100)/((100-L32)/100) -> 16057533 | N32: =N33/$M32*100 -> 1.952712 | O32: =O33/$M32*100 -> 4.0734461 | P32: =P33/$M32*100 -> 1.2546678 | Q32: =Q33/$M32*1000 -> 0.83886828 | R32: =R33/$M32*1000 -> 96.162608
F33: =$D32*F32/100 -> 339127.59 | G33: =$D32*G32/100 -> 707435.58 | H33: =$D32*H32/100 -> 217898.22 | I33: =$D32*I32/1000 -> 14568.63 | J33: =$D32*J32/1000 -> 1670056.5 | N33: =F33*((100-$K32)/100) -> 313557.37 | O33: =G33*((100-$K32)/100) -> 654094.94 | P33: =H33*((100-$K32)/100) -> 201468.69 | Q33: =I33*((100-$K32)/100) -> 13470.155 | R33: =J33*((100-$K32)/100) -> 1544134.2
B40: Итого по бортовому содержанию 1,5 | C40: =SUM(C32:C39) -> 4026487.4 | D40: =SUM(D32:D39) -> 15260387 | E40: =E32 -> 3.79 | F40: =F41/D40*100 -> 2.2222738 | G40: =G41/D40*100 -> 4.6357643 | H40: =H41/D40*100 -> 1.4278682 | I40: =I41/D40*1000 -> 0.95466971 | J40: =J41/D40*1000 -> 109.43736 | M40: =SUM(M32:M39) -> 16057533 | N40: =N41/M40*100 -> 1.952712 | O40: =O41/M40*100 -> 4.0734461 | P40: =P41/M40*100 -> 1.2546678 | Q40: =Q41/M40*1000 -> 0.83886828 | R40: =R41/$M40*1000 -> 96.162608
F41: =F33+F35+F37+F39 -> 339127.59 | G41: =G33+G35+G37+G39 -> 707435.58 | H41: =H33+H35+H37+H39 -> 217898.22 | I41: =I33+I35+I37+I39 -> 14568.63 | J41: =J33+J35+J37+J39 -> 1670056.5 | N41: =N33+N35+N37+N39 -> 313557.37 | O41: =O33+O35+O37+O39 -> 654094.94 | P41: =P33+P35+P37+P39 -> 201468.69 | Q41: =Q33+Q35+Q37+Q39 -> 13470.155 | R41: =R33+R35+R37+R39 -> 1544134.2
B75: Итого по месторождению | C75: =C18+C29+C40+C51+C60+C71+C73 -> 13061926 | D75: =D18+D29+D40+D51+D60+D71+D73 -> 49504698 | E75: =D75/C75 -> 3.79 | F75: =F76/D75*100 -> 2.1327275 | G75: =G76/D75*100 -> 4.3182139 | H75: =H76/D75*100 -> 1.3321471 | I75: =I76/D75*1000 -> 0.89726463 | J75: =J76/D75*1000 -> 102.30804 | M75: =M18+M29+M40+M51+M60+M71+M73 -> 52090638 | N75: =N76/M75*100 -> 1.8740277 | O75: =O76/M75*100 -> 3.7944146 | P75: =P76/M75*100 -> 1.1705577 | Q75: =Q76/M75*1000 -> 0.78842643 | R75: =R76/$M75*1000 -> 89.898077
F76: =F19+F30+F41+F52+F61+F72+F74 -> 1055800.3 | G76: =G19+G30+G41+G52+G61+G72+G74 -> 2137718.7 | H76: =H19+H30+H41+H52+H61+H72+H74 -> 659475.39 | I76: =I19+I30+I41+I52+I61+I72+I74 -> 44418.814 | J76: =J19+J30+J41+J52+J61+J72+J74 -> 5064728.7 | N76: =N19+N30+N41+N52+N61+N72+N74 -> 976192.97 | O76: =O19+O30+O41+O52+O61+O72+O74 -> 1976534.8 | P76: =P19+P30+P41+P52+P61+P72+P74 -> 609750.95 | Q76: =Q19+Q30+Q41+Q52+Q61+Q72+Q74 -> 41069.636 | R76: =R19+R30+R41+R52+R61+R72+R74 -> 4682848.2

Sheet ФЭМ 1.2
L1: 1
B2: ПРИЛОЖЕНИЕ ___ Таблица __
B3: Финансово-экономическая модель отработки минеральных ресурсов месторождения Артемьевское подземным способом (БОРТ 1.2)
E4: 2023 | F4: 2024 | G4: 2025 | H4: 2026 | I4: 2027 | J4: 2028 | K4: 2029 | L4: 2030 | M4: 2031 | N4: 2032 | O4: 2033 | P4: 2034 | Q4: 2035 | R4: 2036
B5: Показатели | C5: Ед.изм. | D5: Всего | F5: в том числе по годам
E6: -1 | F6: 1 | G6: =F6+1 -> 2 | H6: =G6+1 -> 3 | I6: =H6+1 -> 4 | J6: =I6+1 -> 5 | K6: =J6+1 -> 6 | L6: =K6+1 -> 7 | M6: =L6+1 -> 8 | N6: =M6+1 -> 9 | ... R6: =Q6+1 -> 13
B7: Минеральные ресурсы | C7: тыс.т. | D7: ='Расч эксп запасов'!D7 -> 16514.902
B8: Содержание металла
B9: - медь | C9: % | D9: ='Расч эксп запасов'!E7 -> 2.1399887
B10: - цинк | C10: % | D10: ='Расч эксп запасов'!F7 -> 4.3208042
B11: - свинец | C11: % | D11: ='Расч эксп запасов'!G7 -> 1.3333159
B12: - золото | C12: г/т | D12: ='Расч эксп запасов'!H7 -> 0.8984065
B13: - серебро | C13: г/т | D13: ='Расч эксп запасов'!I7 -> 102.42636
B14: Количество металла
B15: - медь | C15: т. | D15: ='Расч эксп запасов'!J7 -> 353417.03
B16: - цинк | C16: т. | D16: ='Расч эксп запасов'!K7 -> 713576.58
B17: - свинец | C17: т. | D17: ='Расч эксп запасов'!L7 -> 220195.81
B18: - золото | C18: кг. | D18: ='Расч эксп запасов'!M7 -> 14837.095
B19: - серебро | C19: кг. | D19: ='Расч эксп запасов'!N7 -> 1691561.3
B20: Потери | C20: % | D20: ='Расч эксп запасов'!C12/100 -> 0.0754
B21: Разубоживание | C21: % | D21: ='Расч эксп запасов'!C17/100 -> 0.1213
B22: Эксплуатационная руда | C22: тыс. т | D22: =SUM(F22:R22) -> 17377.579 | F22: =календари!F21 -> 1250 | G22: =календари!G21 -> 1300 | H22: =календари!H21 -> 1400 | I22: =календари!I21 -> 1500 | J22: =календари!J21 -> 1500 | K22: =календари!K21 -> 1500 | L22: =календари!L21 -> 1500 | M22: =календари!M21 -> 1500 | ... R22: =календари!R21 -> 627.579
B23: Содержание в эксплуатационных запасах:
B24: - медь | C24: % | D24: =AVERAGE(F24:R24) -> 1.8804058 | F24: =F30/F22/10 -> 1.8804058 | G24: =G30/G22/10 -> 1.8804058 | H24: =H30/H22/10 -> 1.8804058 | I24: =I30/I22/10 -> 1.8804058 | J24: =J30/J22/10 -> 1.8804058 | K24: =K30/K22/10 -> 1.8804058 | L24: =L30/L22/10 -> 1.8804058 | M24: =M30/M22/10 -> 1.8804058 | ... R24: =R30/R22/10 -> 1.8804058
B25: - цинк | C25: % | D25: =AVERAGE(F25:R25) -> 3.7966911 | F25: =F31/F22/10 -> 3.7966911 | G25: =G31/G22/10 -> 3.7966911 | H25: =H31/H22/10 -> 3.7966911 | I25: =I31/I22/10 -> 3.7966911 | J25: =J31/J22/10 -> 3.7966911 | K25: =K31/K22/10 -> 3.7966911 | L25: =L31/L22/10 -> 3.7966911 | M25: =M31/M22/10 -> 3.7966911 | ... R25: =R31/R22/10 -> 3.7966911
B26: - свинец | C26: % | D26: =AVERAGE(F26:R26) -> 1.1715844 | F26: =F32/F22/10 -> 1.1715844 | G26: =G32/G22/10 -> 1.1715844 | H26: =H32/H22/10 -> 1.1715844 | I26: =I32/I22/10 -> 1.1715844 | J26: =J32/J22/10 -> 1.1715844 | K26: =K32/K22/10 -> 1.1715844 | L26: =L32/L22/10 -> 1.1715844 | M26: =M32/M22/10 -> 1.1715844 | ... R26: =R32/R22/10 -> 1.1715844
B27: - золото | C27: г/т | D27: =AVERAGE(F27:R27) -> 0.78940801 | F27: =F33/F22 -> 0.78940801 | G27: =G33/G22 -> 0.78940801 | H27: =H33/H22 -> 0.78940801 | I27: =I33/I22 -> 0.78940801 | J27: =J33/J22 -> 0.78940801 | K27: =K33/K22 -> 0.78940801 | L27: =L33/L22 -> 0.78940801 | M27: =M33/M22 -> 0.78940801 | ... R27: =R33/R22 -> 0.78940801
B28: - серебро | C28: г/т | D28: =AVERAGE(F28:R28) -> 90.002065 | F28: =F34/F22 -> 90.002065 | G28: =G34/G22 -> 90.002065 | H28: =H34/H22 -> 90.002065 | I28: =I34/I22 -> 90.002065 | J28: =J34/J22 -> 90.002065 | K28: =K34/K22 -> 90.002065 | L28: =L34/L22 -> 90.002065 | M28: =M34/M22 -> 90.002065 | ... R28: =R34/R22 -> 90.002065
B29: Количество металла в эксплуатационных запасах:
B30: - медь | C30: тонн | D30: =SUM(F30:R30) -> 326769 | F30: =календари!F27*1000 -> 23505.072 | G30: =календари!G27*1000 -> 24445.275 | H30: =календари!H27*1000 -> 26325.681 | I30: =календари!I27*1000 -> 28206.087 | J30: =календари!J27*1000 -> 28206.087 | K30: =календари!K27*1000 -> 28206.087 | L30: =календари!L27*1000 -> 28206.087 | M30: =календари!M27*1000 -> 28206.087 | ... R30: =календари!R27*1000 -> 11801.032
B31: - цинк | C31: тонн | D31: =SUM(F31:R31) -> 659773 | F31: =календари!F28*1000 -> 47458.639 | G31: =календари!G28*1000 -> 49356.985 | H31: =календари!H28*1000 -> 53153.676 | I31: =календари!I28*1000 -> 56950.367 | J31: =календари!J28*1000 -> 56950.367 | K31: =календари!K28*1000 -> 56950.367 | L31: =календари!L28*1000 -> 56950.367 | M31: =календари!M28*1000 -> 56950.367 | ... R31: =календари!R28*1000 -> 23827.236
B32: - свинец | C32: тонн | D32: =SUM(F32:R32) -> 203593 | F32: =календари!F29*1000 -> 14644.805 | G32: =календари!G29*1000 -> 15230.597 | H32: =календари!H29*1000 -> 16402.181 | I32: =календари!I29*1000 -> 17573.766 | J32: =календари!J29*1000 -> 17573.766 | K32: =календари!K29*1000 -> 17573.766 | L32: =календари!L29*1000 -> 17573.766 | M32: =календари!M29*1000 -> 17573.766 | ... R32: =календари!R29*1000 -> 7352.6175
B33: - золото | C33: кг | D33: =SUM(F33:R33) -> 13718 | F33: =календари!F30 -> 986.76001 | G33: =календари!G30 -> 1026.2304 | H33: =календари!H30 -> 1105.1712 | I33: =календари!I30 -> 1184.112 | J33: =календари!J30 -> 1184.112 | K33: =календари!K30 -> 1184.112 | L33: =календари!L30 -> 1184.112 | M33: =календари!M30 -> 1184.112 | ... R33: =календари!R30 -> 495.41589
B34: - серебро | C34: кг | D34: =SUM(F34:R34) -> 1564018 | F34: =календари!F31 -> 112502.58 | G34: =календари!G31 -> 117002.68 | H34: =календари!H31 -> 126002.89 | I34: =календари!I31 -> 135003.1 | J34: =календари!J31 -> 135003.1 | K34: =календари!K31 -> 135003.1 | L34: =календари!L31 -> 135003.1 | M34: =календари!M31 -> 135003.1 | ... R34: =календари!R31 -> 56483.406
B35: ПЕРЕРАБОТКА
B36: Годовой объем руды, поступающей на ОФ | C36: тыс. т | D36: =SUM(F36:R36) -> 17377.579 | F36: =F22 -> 1250 | G36: =G22 -> 1300 | H36: =H22 -> 1400 | I36: =I22 -> 1500 | J36: =J22 -> 1500 | K36: =K22 -> 1500 | L36: =L22 -> 1500 | M36: =M22 -> 1500 | ... R36: =R22 -> 627.579
B37: Выход концентратов:
B38: -медного | C38: % | D38: ='Данные по переработке'!B3/100 -> 0.0715 | F38: =$D$38 -> 0.0715 | G38: =$D$38 -> 0.0715 | H38: =$D$38 -> 0.0715 | I38: =$D$38 -> 0.0715 | J38: =$D$38 -> 0.0715 | K38: =$D$38 -> 0.0715 | L38: =$D$38 -> 0.0715 | M38: =$D$38 -> 0.0715 | ... R38: =$D$38 -> 0.0715
B39: -свинцового | C39: % | D39: ='Данные по переработке'!B4/100 -> 0.0202 | F39: =$D$39 -> 0.0202 | G39: =$D$39 -> 0.0202 | H39: =$D$39 -> 0.0202 | I39: =$D$39 -> 0.0202 | J39: =$D$39 -> 0.0202 | K39: =$D$39 -> 0.0202 | L39: =$D$39 -> 0.0202 | M39: =$D$39 -> 0.0202 | ... R39: =$D$39 -> 0.0202
B40: -цинкового | C40: % | D40: ='Данные по переработке'!B5/100 -> 0.0814 | F40: =$D$40 -> 0.0814 | G40: =$D$40 -> 0.0814 | H40: =$D$40 -> 0.0814 | I40: =$D$40 -> 0.0814 | J40: =$D$40 -> 0.0814 | K40: =$D$40 -> 0.0814 | L40: =$D$40 -> 0.0814 | M40: =$D$40 -> 0.0814 | ... R40: =$D$40 -> 0.0814
...

Sheet ФЭМ 1.5
L1: 1
B2: ПРИЛОЖЕНИЕ ___ Таблица __
B3: Финансово-экономическая модель отработки минеральных ресурсов месторождения Артемьевское подземным способом (БОРТ 1.5)
E4: 2023 | F4: 2024 | G4: 2025 | H4: 2026 | I4: 2027 | J4: 2028 | K4: 2029 | L4: 2030 | M4: 2031 | N4: 2032 | O4: 2033 | P4: 2034 | Q4: 2035
B5: Показатели | C5: Ед.изм. | D5: Всего | F5: в том числе по годам
E6: -1 | F6: 1 | G6: =F6+1 -> 2 | H6: =G6+1 -> 3 | I6: =H6+1 -> 4 | J6: =I6+1 -> 5 | K6: =J6+1 -> 6 | L6: =K6+1 -> 7 | M6: =L6+1 -> 8 | N6: =M6+1 -> 9 | ... Q6: =P6+1 -> 12
B7: Минеральные ресурсы | C7: тыс.т. | D7: ='Расч эксп запасов'!D8 -> 15260.387
B8: Содержание металла
B9: - медь | C9: % | D9: ='Расч эксп запасов'!E8 -> 2.2222738
B10: - цинк | C10: % | D10: ='Расч эксп запасов'!F8 -> 4.6357643
B11: - свинец | C11: % | D11: ='Расч эксп запасов'!G8 -> 1.4278682
B12: - золото | C12: г/т | D12: ='Расч эксп запасов'!H8 -> 0.95466971
B13: - серебро | C13: г/т | D13: ='Расч эксп запасов'!I8 -> 109.43736
B14: Количество металла
B15: - медь | C15: т. | D15: ='Расч эксп запасов'!J8 -> 339127.59
B16: - цинк | C16: т. | D16: ='Расч эксп запасов'!K8 -> 707435.58
B17: - свинец | C17: т. | D17: ='Расч эксп запасов'!L8 -> 217898.22
B18: - золото | C18: кг. | D18: ='Расч эксп запасов'!M8 -> 14568.63
B19: - серебро | C19: кг. | D19: ='Расч эксп запасов'!N8 -> 1670056.5
B20: Потери | C20: % | D20: ='Расч эксп запасов'!C13/100 -> 0.0754
B21: Разубоживание | C21: % | D21: ='Расч эксп запасов'!C18/100 -> 0.1213
B22: Эксплуатационная руда | C22: тыс. т | D22: =SUM(F22:Q22) -> 16057.533 | F22: =календари!F36 -> 1250 | G22: =календари!G36 -> 1300 | H22: =календари!H36 -> 1400 | I22: =календари!I36 -> 1500 | J22: =календари!J36 -> 1500 | K22: =календари!K36 -> 1500 | L22: =календари!L36 -> 1500 | M22: =календари!M36 -> 1500 | ... Q22: =календари!Q36 -> 607.533
B23: Содержание в эксплуатационных запасах:
B24: - медь | C24: % | D24: =AVERAGE(F24:Q24) -> 2.0144242 | F24: =F30/F22/10 -> 1.9527097 | G24: =G30/G22/10 -> 1.8804058 | H24: =H30/H22/10 -> 1.8804058 | I24: =I30/I22/10 -> 1.8804058 | J24: =J30/J22/10 -> 1.8804058 | K24: =K30/K22/10 -> 1.8804058 | L24: =L30/L22/10 -> 1.8804058 | M24: =M30/M22/10 -> 1.8804058 | ... Q24: =Q30/Q22/10 -> 2.47612
B25: - цинк | C25: % | D25: =AVERAGE(F25:Q25) -> 4.0781825 | F25: =F31/F22/10 -> 4.0734464 | G25: =G31/G22/10 -> 3.7966911 | H25: =H31/H22/10 -> 3.7966911 | I25: =I31/I22/10 -> 3.7966911 | J25: =J31/J22/10 -> 3.7966911 | K25: =K31/K22/10 -> 3.7966911 | L25: =L31/L22/10 -> 3.7966911 | M25: =M31/M22/10 -> 3.7966911 | ... Q25: =Q31/Q22/10 -> 4.9994863
B26: - свинец | C26: % | D26: =AVERAGE(F26:Q26) -> 1.2582541 | F26: =F32/F22/10 -> 1.2546697 | G26: =G32/G22/10 -> 1.1715844 | H26: =H32/H22/10 -> 1.1715844 | I26: =I32/I22/10 -> 1.1715844 | J26: =J32/J22/10 -> 1.1715844 | K26: =K32/K22/10 -> 1.1715844 | L26: =L32/L22/10 -> 1.1715844 | M26: =M32/M22/10 -> 1.1715844 | ... Q26: =Q32/Q22/10 -> 1.5427434
B27: - золото | C27: г/т | D27: =AVERAGE(F27:Q27) -> 0.84726132 | F27: =F33/F22 -> 0.83885862 | G27: =G33/G22 -> 0.78940801 | H27: =H33/H22 -> 0.78940801 | I27: =I33/I22 -> 0.78940801 | J27: =J33/J22 -> 0.78940801 | K27: =K33/K22 -> 0.78940801 | L27: =L33/L22 -> 0.78940801 | M27: =M33/M22 -> 0.78940801 | ... Q27: =Q33/Q22 -> 1.0394932
B28: - серебро | C28: г/т | D28: =AVERAGE(F28:Q28) -> 96.64159 | F28: =F34/F22 -> 96.162592 | G28: =G34/G22 -> 90.002065 | H28: =H34/H22 -> 90.002065 | I28: =I34/I22 -> 90.002065 | J28: =J34/J22 -> 90.002065 | K28: =K34/K22 -> 90.002065 | L28: =L34/L22 -> 90.002065 | M28: =M34/M22 -> 90.002065 | ... Q28: =Q34/Q22 -> 118.5148
B29: Количество металла в эксплуатационных запасах:
B30: - медь | C30: тонн | D30: =SUM(F30:Q30) -> 315871.77 | F30: =календари!F42*1000 -> 24408.871 | G30: =календари!G27*1000 -> 24445.275 | H30: =календари!H27*1000 -> 26325.681 | I30: =календари!I27*1000 -> 28206.087 | J30: =календари!J27*1000 -> 28206.087 | K30: =календари!K27*1000 -> 28206.087 | L30: =календари!L27*1000 -> 28206.087 | M30: =календари!M27*1000 -> 28206.087 | N30: =календари!N27*1000 -> 28206.087 | ... Q30: =календари!Q27*1000 -> 15043.246
B31: - цинк | C31: тонн | D31: =SUM(F31:Q31) -> 639405.2 | F31: =календари!F43*1000 -> 50918.08 | G31: =календари!G28*1000 -> 49356.985 | H31: =календари!H28*1000 -> 53153.676 | I31: =календари!I28*1000 -> 56950.367 | J31: =календари!J28*1000 -> 56950.367 | K31: =календари!K28*1000 -> 56950.367 | L31: =календари!L28*1000 -> 56950.367 | M31: =календари!M28*1000 -> 56950.367 | N31: =календари!N28*1000 -> 56950.367 | ... Q31: =календари!Q28*1000 -> 30373.529
B32: - свинец | C32: тонн | D32: =SUM(F32:Q32) -> 197278.95 | F32: =календари!F44*1000 -> 15683.371 | G32: =календари!G29*1000 -> 15230.597 | H32: =календари!H29*1000 -> 16402.181 | I32: =календари!I29*1000 -> 17573.766 | J32: =календари!J29*1000 -> 17573.766 | K32: =календари!K29*1000 -> 17573.766 | L32: =календари!L29*1000 -> 17573.766 | M32: =календари!M29*1000 -> 17573.766 | N32: =календари!N29*1000 -> 17573.766 | ... Q32: =календари!Q29*1000 -> 9372.675
B33: - золото | C33: кг | D33: =SUM(F33:Q33) -> 13284.397 | F33: =календари!F45 -> 1048.5733 | G33: =календари!G30 -> 1026.2304 | H33: =календари!H30 -> 1105.1712 | I33: =календари!I30 -> 1184.112 | J33: =календари!J30 -> 1184.112 | K33: =календари!K30 -> 1184.112 | L33: =календари!L30 -> 1184.112 | M33: =календари!M30 -> 1184.112 | N33: =календари!N30 -> 1184.112 | ... Q33: =календари!Q30 -> 631.52641
B34: - серебро | C34: кг | D34: =SUM(F34:Q34) -> 1515235.3 | F34: =календари!F46 -> 120203.24 | G34: =календари!G31 -> 117002.68 | H34: =календари!H31 -> 126002.89 | I34: =календари!I31 -> 135003.1 | J34: =календари!J31 -> 135003.1 | K34: =календари!K31 -> 135003.1 | L34: =календари!L31 -> 135003.1 | M34: =календари!M31 -> 135003.1 | N34: =календари!N31 -> 135003.1 | ... Q34: =календари!Q31 -> 72001.652
B35: ПЕРЕРАБОТКА
B36: Годовой объем руды, поступающей на ОФ | C36: тыс. т | D36: =SUM(F36:Q36) -> 16057.533 | F36: =F22 -> 1250 | G36: =G22 -> 1300 | H36: =H22 -> 1400 | I36: =I22 -> 1500 | J36: =J22 -> 1500 | K36: =K22 -> 1500 | L36: =L22 -> 1500 | M36: =M22 -> 1500 | ... Q36: =Q22 -> 607.533
B37: Выход концентратов:
B38: -медного | C38: % | D38: ='Данные по переработке'!B3/100 -> 0.0715 | F38: =$D$38 -> 0.0715 | G38: =$D$38 -> 0.0715 | H38: =$D$38 -> 0.0715 | I38: =$D$38 -> 0.0715 | J38: =$D$38 -> 0.0715 | K38: =$D$38 -> 0.0715 | L38: =$D$38 -> 0.0715 | M38: =$D$38 -> 0.0715 | ... Q38: =$D$38 -> 0.0715
B39: -свинцового | C39: % | D39: ='Данные по переработке'!B4/100 -> 0.0202 | F39: =$D$39 -> 0.0202 | G39: =$D$39 -> 0.0202 | H39: =$D$39 -> 0.0202 | I39: =$D$39 -> 0.0202 | J39: =$D$39 -> 0.0202 | K39: =$D$39 -> 0.0202 | L39: =$D$39 -> 0.0202 | M39: =$D$39 -> 0.0202 | ... Q39: =$D$39 -> 0.0202
B40: -цинкового | C40: % | D40: ='Данные по переработке'!B5/100 -> 0.0814 | F40: =$D$40 -> 0.0814 | G40: =$D$40 -> 0.0814 | H40: =$D$40 -> 0.0814 | I40: =$D$40 -> 0.0814 | J40: =$D$40 -> 0.0814 | K40: =$D$40 -> 0.0814 | L40: =$D$40 -> 0.0814 | M40: =$D$40 -> 0.0814 | ... Q40: =$D$40 -> 0.0814
...

Sheet Расч эксп запасов
B2: Расчёт эксплуатационных запасов
B4: Тип | C4: Потери | D4: Руда, тыс.т | E4: Содержание | J4: Запасы металлов
C5: Разуб. | E5: Cu, % | F5: Zn,% | G5: Pb, % | H5: Au, г/т | I5: Ag, г/т | J5: Cu, тонн | K5: Zn, тонн | L5: Pb, тонн | M5: Au, кг | N5: Ag, кг
B6: Бортовое содержание 0,9 | D6: =Запасы!D18/1000 -> 17729.408 | E6: =J6/D6/10 -> 2.0488878 | F6: =K6/D6/10 -> 4.0424732 | G6: =L6/D6/10 -> 1.2486675 | H6: =M6/D6 -> 0.84679021 | I6: =N6/D6 -> 96.06135 | J6: 363255.69 | K6: 716706.59 | L6: 221381.37 | M6: 15013.089 | N6: 1703110.9
B7: Бортовое содержание 1,2 | D7: =Запасы!D29/1000 -> 16514.902 | E7: =J7/D7/10 -> 2.1399887 | F7: =K7/D7/10 -> 4.3208042 | G7: =L7/D7/10 -> 1.3333159 | H7: =M7/D7 -> 0.8984065 | I7: =N7/D7 -> 102.42636 | J7: 353417.03 | K7: 713576.58 | L7: 220195.81 | M7: 14837.095 | N7: 1691561.3
B8: Бортовое содержание 1,5 | D8: =Запасы!D40/1000 -> 15260.387 | E8: =J8/D8/10 -> 2.2222738 | F8: =K8/D8/10 -> 4.6357643 | G8: =L8/D8/10 -> 1.4278682 | H8: =M8/D8 -> 0.95466971 | I8: =N8/D8 -> 109.43736 | J8: 339127.59 | K8: 707435.58 | L8: 217898.22 | M8: 14568.63 | N8: 1670056.5
B9: Извлекаемые запасы
B10: Потери
B11: Бортовое содержание 0,9 | C11: =Запасы!K8 -> 7.54 | D11: =D6*(1-C11/100) -> 16392.611 | E11: =E6 -> 2.0488878 | F11: =F6 -> 4.0424732 | G11: =G6 -> 1.2486675 | H11: =H6 -> 0.84679021 | I11: =I6 -> 96.06135 | J11: =J6*(1-C11/100) -> 335866.21 | K11: =K6*(1-C11/100) -> 662666.91 | L11: =L6*(1-C11/100) -> 204689.21 | M11: =M6*(1-C11/100) -> 13881.103 | N11: =N6*(1-C11/100) -> 1574696.3
B12: Бортовое содержание 1,2 | C12: =Запасы!K21 -> 7.54 | D12: =D7*(1-C12/100) -> 15269.678 | E12: =E7 -> 2.1399887 | F12: =F7 -> 4.3208042 | G12: =G7 -> 1.3333159 | H12: =H7 -> 0.8984065 | I12: =I7 -> 102.42636 | J12: =J7*(1-C12/100) -> 326769.39 | K12: =K7*(1-C12/100) -> 659772.91 | L12: =L7*(1-C12/100) -> 203593.04 | M12: =M7*(1-C12/100) -> 13718.378 | N12: =N7*(1-C12/100) -> 1564017.6
B13: Бортовое содержание 1,5 | C13: =Запасы!K32 -> 7.54 | D13: =D8*(1-C13/100) -> 14109.754 | E13: =E8 -> 2.2222738 | F13: =F8 -> 4.6357643 | G13: =G8 -> 1.4278682 | H13: =H8 -> 0.95466971 | I13: =I8 -> 109.43736 | J13: =J8*(1-C13/100) -> 313557.37 | K13: =K8*(1-C13/100) -> 654094.94 | L13: =L8*(1-C13/100) -> 201468.69 | M13: =M8*(1-C13/100) -> 13470.155 | N13: =N8*(1-C13/100) -> 1544134.2
B14: Эксплуатационные запасы
B15: Разубоживание
B16: Бортовое содержание 0,9 | C16: =Запасы!L8 -> 12.13 | D16: =D6*(1-C11/100)/(1-C16/100) -> 18655.526 | E16: =J16/D16/10 -> 1.8003577 | F16: =K16/D16/10 -> 3.5521212 | G16: =L16/D16/10 -> 1.0972042 | H16: =M16/D16 -> 0.74407456 | I16: =N16/D16 -> 84.409108 | J16: =J11 -> 335866.21 | K16: =K11 -> 662666.91 | L16: =L11 -> 204689.21 | M16: =M11 -> 13881.103 | N16: =N11 -> 1574696.3
B17: Бортовое содержание 1,2 | C17: =Запасы!L21 -> 12.13 | D17: =D7*(1-C12/100)/(1-C17/100) -> 17377.579 | E17: =J17/D17/10 -> 1.880408 | F17: =K17/D17/10 -> 3.7966906 | G17: =L17/D17/10 -> 1.1715846 | H17: =M17/D17 -> 0.78942979 | I17: =N17/D17 -> 90.002043 | J17: =J12 -> 326769.39 | K17: =K12 -> 659772.91 | L17: =L12 -> 203593.04 | M17: =M12 -> 13718.378 | N17: =N12 -> 1564017.6
B18: Бортовое содержание 1,5 | C18: =Запасы!L32 -> 12.13 | D18: =D8*(1-C13/100)/(1-C18/100) -> 16057.533 | E18: =J18/D18/10 -> 1.952712 | F18: =K18/D18/10 -> 4.0734461 | G18: =L18/D18/10 -> 1.2546678 | H18: =M18/D18 -> 0.83886828 | I18: =N18/D18 -> 96.162608 | J18: =J13 -> 313557.37 | K18: =K13 -> 654094.94 | L18: =L13 -> 201468.69 | M18: =M13 -> 13470.155 | N18: =N13 -> 1544134.2

Sheet календари
B2: Показатель | C2: Ед.изм. | D2: Всего | F2: Годы отработки
F3: 2024 | G3: 2025 | H3: 2026 | I3: 2027 | J3: 2028 | K3: 2029 | L3: 2030 | M3: 2031 | N3: 2032 | O3: 2033 | P3: 2034 | Q3: 2035 | R3: 2036 | S3: 2037
E4: -1 | F4: 1 | G4: 2 | H4: 3 | I4: 4 | J4: 5 | K4: 6 | L4: 7 | M4: 8 | N4: 9 | O4: 10 | P4: 11 | Q4: 12 | R4: 13 | S4: 14
B5: Бортовое содержание 0,9
B6: Добыча руды | C6: тыс.т | D6: =SUM(F6:S6) -> 18655.526 | F6: 1250 | G6: 1300 | H6: 1400 | I6: 1500 | J6: 1500 | K6: 1500 | L6: 1500 | M6: 1500 | N6: 1500 | O6: 1500 | P6: 1500 | Q6: 1500 | R6: 800 | S6: 405.526
B7: Содержание Cu | C7: % | D7: 1.8003577 | F7: =$D7 -> 1.8003577 | G7: =$D7 -> 1.8003577 | H7: =$D7 -> 1.8003577 | I7: =$D7 -> 1.8003577 | J7: =$D7 -> 1.8003577 | K7: =$D7 -> 1.8003577 | L7: =$D7 -> 1.8003577 | M7: =$D7 -> 1.8003577 | ... S7: =$D7 -> 1.8003577
B8: Содержание Zn | C8: % | D8: 3.5521212 | F8: =$D8 -> 3.5521212 | G8: =$D8 -> 3.5521212 | H8: =$D8 -> 3.5521212 | I8: =$D8 -> 3.5521212 | J8: =$D8 -> 3.5521212 | K8: =$D8 -> 3.5521212 | L8: =$D8 -> 3.5521212 | M8: =$D8 -> 3.5521212 | ... S8: =$D8 -> 3.5521212
B9: Содержание Pb | C9: % | D9: 1.0972042 | F9: =$D9 -> 1.0972042 | G9: =$D9 -> 1.0972042 | H9: =$D9 -> 1.0972042 | I9: =$D9 -> 1.0972042 | J9: =$D9 -> 1.0972042 | K9: =$D9 -> 1.0972042 | L9: =$D9 -> 1.0972042 | M9: =$D9 -> 1.0972042 | ... S9: =$D9 -> 1.0972042
B10: Содержание Au | C10: г/т | D10: 0.74407456 | F10: =$D10 -> 0.74407456 | G10: =$D10 -> 0.74407456 | H10: =$D10 -> 0.74407456 | I10: =$D10 -> 0.74407456 | J10: =$D10 -> 0.74407456 | K10: =$D10 -> 0.74407456 | L10: =$D10 -> 0.74407456 | M10: =$D10 -> 0.74407456 | ... S10: =$D10 -> 0.74407456
B11: Содержание Ag | C11: г/т | D11: 84.409108 | F11: =$D11 -> 84.409108 | G11: =$D11 -> 84.409108 | H11: =$D11 -> 84.409108 | I11: =$D11 -> 84.409108 | J11: =$D11 -> 84.409108 | K11: =$D11 -> 84.409108 | L11: =$D11 -> 84.409108 | M11: =$D11 -> 84.409108 | ... S11: =$D11 -> 84.409108
B12: Количество металла Cu | C12: тыс.тонн | D12: 335.866 | F12: =F6/$D6*$D12 -> 22.504458 | G12: =G6/$D6*$D12 -> 23.404636 | H12: =H6/$D6*$D12 -> 25.204993 | I12: =I6/$D6*$D12 -> 27.00535 | J12: =J6/$D6*$D12 -> 27.00535 | K12: =K6/$D6*$D12 -> 27.00535 | L12: =L6/$D6*$D12 -> 27.00535 | M12: =M6/$D6*$D12 -> 27.00535 | ... S12: =S6/$D6*$D12 -> 7.3009142
B13: Количество металла Zn | C13: тыс.тонн | D13: 662.667 | F13: =F6/$D6*$D13 -> 44.401522 | G13: =G6/$D6*$D13 -> 46.177583 | H13: =H6/$D6*$D13 -> 49.729705 | I13: =I6/$D6*$D13 -> 53.281827 | J13: =J6/$D6*$D13 -> 53.281827 | K13: =K6/$D6*$D13 -> 53.281827 | L13: =L6/$D6*$D13 -> 53.281827 | M13: =M6/$D6*$D13 -> 53.281827 | ... S13: =S6/$D6*$D13 -> 14.404777
B14: Количество металла Pb | C14: тыс.тонн | D14: 204.689 | F14: =F6/$D6*$D14 -> 13.715038 | G14: =G6/$D6*$D14 -> 14.26364 | H14: =H6/$D6*$D14 -> 15.360843 | I14: =I6/$D6*$D14 -> 16.458046 | J14: =J6/$D6*$D14 -> 16.458046 | K14: =K6/$D6*$D14 -> 16.458046 | L14: =L6/$D6*$D14 -> 16.458046 | M14: =M6/$D6*$D14 -> 16.458046 | ... S14: =S6/$D6*$D14 -> 4.4494436
B15: Количество металла Au | C15: кг | D15: 13881 | F15: =F6/$D6*$D15 -> 930.08635 | G15: =G6/$D6*$D15 -> 967.2898 | H15: =H6/$D6*$D15 -> 1041.6967 | I15: =I6/$D6*$D15 -> 1116.1036 | J15: =J6/$D6*$D15 -> 1116.1036 | K15: =K6/$D6*$D15 -> 1116.1036 | L15: =L6/$D6*$D15 -> 1116.1036 | M15: =M6/$D6*$D15 -> 1116.1036 | ... S15: =S6/$D6*$D15 -> 301.73936
B16: Количество металла Ag | C16: кг | D16: 1574696 | F16: =F6/$D6*$D16 -> 105511.36 | G16: =G6/$D6*$D16 -> 109731.82 | H16: =H6/$D6*$D16 -> 118172.73 | I16: =I6/$D6*$D16 -> 126613.64 | J16: =J6/$D6*$D16 -> 126613.64 | K16: =K6/$D6*$D16 -> 126613.64 | L16: =L6/$D6*$D16 -> 126613.64 | M16: =M6/$D6*$D16 -> 126613.64 | ... S16: =S6/$D6*$D16 -> 34230.081
B17: Горно-подготовительные работы | C17: тыс.м3 | D17: =SUM(F17:S17) -> 826.4398 | F17: =F6*44.3/1000 -> 55.375 | G17: =G6*44.3/1000 -> 57.59 | H17: =H6*44.3/1000 -> 62.02 | I17: =I6*44.3/1000 -> 66.45 | J17: =J6*44.3/1000 -> 66.45 | K17: =K6*44.3/1000 -> 66.45 | L17: =L6*44.3/1000 -> 66.45 | M17: =M6*44.3/1000 -> 66.45 | ... S17: =S6*44.3/1000 -> 17.964802
B18: Горно-капитальные работы | C18: тыс.м3 | D18: 65.986 | F18: 47.497 | G18: 9.366
B20: Бортовое содержание 1,2
B21: Добыча руды | C21: тыс.т | D21: =SUM(F21:S21) -> 17377.579 | F21: 1250 | G21: 1300 | H21: 1400 | I21: 1500 | J21: 1500 | K21: 1500 | L21: 1500 | M21: 1500 | N21: 1500 | O21: 1500 | P21: 1500 | Q21: 800 | R21: 627.579
B22: Содержание Cu | C22: % | D22: 1.88319 | F22: =$D22 -> 1.88319 | G22: =$D22 -> 1.88319 | H22: =$D22 -> 1.88319 | I22: =$D22 -> 1.88319 | J22: =$D22 -> 1.88319 | K22: =$D22 -> 1.88319 | L22: =$D22 -> 1.88319 | M22: =$D22 -> 1.88319 | ... R22: =$D22 -> 1.88319
B23: Содержание Zn | C23: % | D23: 3.8023077 | F23: =$D23 -> 3.8023077 | G23: =$D23 -> 3.8023077 | H23: =$D23 -> 3.8023077 | I23: =$D23 -> 3.8023077 | J23: =$D23 -> 3.8023077 | K23: =$D23 -> 3.8023077 | L23: =$D23 -> 3.8023077 | M23: =$D23 -> 3.8023077 | ... R23: =$D23 -> 3.8023077
B24: Содержание Pb | C24: % | D24: 1.173318 | F24: =$D24 -> 1.173318 | G24: =$D24 -> 1.173318 | H24: =$D24 -> 1.173318 | I24: =$D24 -> 1.173318 | J24: =$D24 -> 1.173318 | K24: =$D24 -> 1.173318 | L24: =$D24 -> 1.173318 | M24: =$D24 -> 1.173318 | ... R24: =$D24 -> 1.173318
B25: Содержание Au | C25: г/т | D25: 0.79059772 | F25: =$D25 -> 0.79059772 | G25: =$D25 -> 0.79059772 | H25: =$D25 -> 0.79059772 | I25: =$D25 -> 0.79059772 | J25: =$D25 -> 0.79059772 | K25: =$D25 -> 0.79059772 | L25: =$D25 -> 0.79059772 | M25: =$D25 -> 0.79059772 | ... R25: =$D25 -> 0.79059772
B26: Содержание Ag | C26: г/т | D26: 90.135197 | F26: =$D26 -> 90.135197 | G26: =$D26 -> 90.135197 | H26: =$D26 -> 90.135197 | I26: =$D26 -> 90.135197 | J26: =$D26 -> 90.135197 | K26: =$D26 -> 90.135197 | L26: =$D26 -> 90.135197 | M26: =$D26 -> 90.135197 | ... R26: =$D26 -> 90.135197
B27: Количество металла Cu | C27: тыс.тонн | D27: 326.769 | F27: =F21/$D21*$D27 -> 23.505072 | G27: =G21/$D21*$D27 -> 24.445275 | H27: =H21/$D21*$D27 -> 26.325681 | I27: =I21/$D21*$D27 -> 28.206087 | J27: =J21/$D21*$D27 -> 28.206087 | K27: =K21/$D21*$D27 -> 28.206087 | L27: =L21/$D21*$D27 -> 28.206087 | M27: =M21/$D21*$D27 -> 28.206087 | ... R27: =R21/$D21*$D27 -> 11.801032
B28: Количество металла Zn | C28: тыс.тонн | D28: 659.773 | F28: =F21/$D21*$D28 -> 47.458639 | G28: =G21/$D21*$D28 -> 49.356985 | H28: =H21/$D21*$D28 -> 53.153676 | I28: =I21/$D21*$D28 -> 56.950367 | J28: =J21/$D21*$D28 -> 56.950367 | K28: =K21/$D21*$D28 -> 56.950367 | L28: =L21/$D21*$D28 -> 56.950367 | M28: =M21/$D21*$D28 -> 56.950367 | ... R28: =R21/$D21*$D28 -> 23.827236
B29: Количество металла Pb | C29: тыс.тонн | D29: 203.593 | F29: =F21/$D21*$D29 -> 14.644805 | G29: =G21/$D21*$D29 -> 15.230597 | H29: =H21/$D21*$D29 -> 16.402181 | I29: =I21/$D21*$D29 -> 17.573766 | J29: =J21/$D21*$D29 -> 17.573766 | K29: =K21/$D21*$D29 -> 17.573766 | L29: =L21/$D21*$D29 -> 17.573766 | M29: =M21/$D21*$D29 -> 17.573766 | ... R29: =R21/$D21*$D29 -> 7.3526175
B30: Количество металла Au | C30: кг | D30: 13718 | F30: =F21/$D21*$D30 -> 986.76001 | G30: =G21/$D21*$D30 -> 1026.2304 | H30: =H21/$D21*$D30 -> 1105.1712 | I30: =I21/$D21*$D30 -> 1184.112 | J30: =J21/$D21*$D30 -> 1184.112 | K30: =K21/$D21*$D30 -> 1184.112 | L30: =L21/$D21*$D30 -> 1184.112 | M30: =M21/$D21*$D30 -> 1184.112 | ... R30: =R21/$D21*$D30 -> 495.41589
B31: Количество металла Ag | C31: кг | D31: 1564018 | F31: =F21/$D21*$D31 -> 112502.58 | G31: =G21/$D21*$D31 -> 117002.68 | H31: =H21/$D21*$D31 -> 126002.89 | I31: =I21/$D21*$D31 -> 135003.1 | J31: =J21/$D21*$D31 -> 135003.1 | K31: =K21/$D21*$D31 -> 135003.1 | L31: =L21/$D21*$D31 -> 135003.1 | M31: =M21/$D21*$D31 -> 135003.1 | ... R31: =R21/$D21*$D31 -> 56483.406
B32: Горно-подготовительные работы | C32: тыс.м3 | D32: =SUM(F32:S32) -> 769.82675 | F32: =F21*44.3/1000 -> 55.375 | G32: =G21*44.3/1000 -> 57.59 | H32: =H21*44.3/1000 -> 62.02 | I32: =I21*44.3/1000 -> 66.45 | J32: =J21*44.3/1000 -> 66.45 | K32: =K21*44.3/1000 -> 66.45 | L32: =L21*44.3/1000 -> 66.45 | M32: =M21*44.3/1000 -> 66.45 | ... R32: =R21*44.3/1000 -> 27.80175
B33: Горно-капитальные работы | C33: тыс.м3 | D33: 65.986 | F33: 47.497 | G33: 9.366
B35: Бортовое содержание 1,5
B36: Добыча руды | C36: тыс.т | D36: =SUM(F36:S36) -> 16057.533 | F36: 1250 | G36: 1300 | H36: 1400 | I36: 1500 | J36: 1500 | K36: 1500 | L36: 1500 | M36: 1500 | N36: 1500 | O36: 1500 | P36: 1000 | Q36: 607.533
B37: Содержание Cu | C37: % | D37: 1.952712 | F37: =$D37 -> 1.952712 | G37: =$D37 -> 1.952712 | H37: =$D37 -> 1.952712 | I37: =$D37 -> 1.952712 | J37: =$D37 -> 1.952712 | K37: =$D37 -> 1.952712 | L37: =$D37 -> 1.952712 | M37: =$D37 -> 1.952712 | ... Q37: =$D37 -> 1.952712
B38: Содержание Zn | C38: % | D38: 4.0734461 | F38: =$D38 -> 4.0734461 | G38: =$D38 -> 4.0734461 | H38: =$D38 -> 4.0734461 | I38: =$D38 -> 4.0734461 | J38: =$D38 -> 4.0734461 | K38: =$D38 -> 4.0734461 | L38: =$D38 -> 4.0734461 | M38: =$D38 -> 4.0734461 | ... Q38: =$D38 -> 4.0734461
B39: Содержание Pb | C39: % | D39: 1.2546678 | F39: =$D39 -> 1.2546678 | G39: =$D39 -> 1.2546678 | H39: =$D39 -> 1.2546678 | I39: =$D39 -> 1.2546678 | J39: =$D39 -> 1.2546678 | K39: =$D39 -> 1.2546678 | L39: =$D39 -> 1.2546678 | M39: =$D39 -> 1.2546678 | ... Q39: =$D39 -> 1.2546678
B40: Содержание Au | C40: г/т | D40: 0.83886828 | F40: =$D40 -> 0.83886828 | G40: =$D40 -> 0.83886828 | H40: =$D40 -> 0.83886828 | I40: =$D40 -> 0.83886828 | J40: =$D40 -> 0.83886828 | K40: =$D40 -> 0.83886828 | L40: =$D40 -> 0.83886828 | M40: =$D40 -> 0.83886828 | ... Q40: =$D40 -> 0.83886828
B41: Содержание Ag | C41: г/т | D41: 96.162608 | F41: =$D41 -> 96.162608 | G41: =$D41 -> 96.162608 | H41: =$D41 -> 96.162608 | I41: =$D41 -> 96.162608 | J41: =$D41 -> 96.162608 | K41: =$D41 -> 96.162608 | L41: =$D41 -> 96.162608 | M41: =$D41 -> 96.162608 | ... Q41: =$D41 -> 96.162608
B42: Количество металла Cu | C42: тыс.тонн | D42: 313.557 | F42: =F36/$D36*$D42 -> 24.408871 | G42: =G36/$D36*$D42 -> 25.385226 | H42: =H36/$D36*$D42 -> 27.337935 | I42: =I36/$D36*$D42 -> 29.290645 | J42: =J36/$D36*$D42 -> 29.290645 | K42: =K36/$D36*$D42 -> 29.290645 | L42: =L36/$D36*$D42 -> 29.290645 | M42: =M36/$D36*$D42 -> 29.290645 | ... Q42: =Q36/$D36*$D42 -> 11.863356
B43: Количество металла Zn | C43: тыс.тонн | D43: 654.095 | F43: =F36/$D36*$D43 -> 50.91808 | G43: =G36/$D36*$D43 -> 52.954803 | H43: =H36/$D36*$D43 -> 57.02825 | I43: =I36/$D36*$D43 -> 61.101696 | J43: =J36/$D36*$D43 -> 61.101696 | K43: =K36/$D36*$D43 -> 61.101696 | L43: =L36/$D36*$D43 -> 61.101696 | M43: =M36/$D36*$D43 -> 61.101696 | ... Q43: =Q36/$D36*$D43 -> 24.747531
...

Sheet Данные по переработке
A1: Наименование | B1: Выход | C1: Содержание, %, г/т | H1: Извлечение от руды, %, г/т
A2: продуктов | B2: % | C2: Cu | D2: Pb | E2: Zn | F2: Au | G2: Ag | H2: Cu | I2: Pb | J2: Zn | K2: Au | L2: Ag
A3: Cu концентрат | B3: 7.15 | C3: 25.73 | D3: 3.2 | E3: 4 | F3: 5.48 | G3: 832.76 | H3: 87.65 | I3: 16.47 | J3: 5.64 | K3: 49 | L3: 58.27
A4: Pb концентрат | B4: 2.02 | C4: 4.5 | D4: 45 | E4: 11 | F4: 5.58 | G4: 470.71 | H4: 4.32 | I4: 65.24 | J4: 4.37 | K4: 14.04 | L4: 9.3
A5: Zn концентрат | B5: 8.14 | C5: 1.1 | D5: 1.7 | E5: 53 | F5: 0.87 | G5: 140.13 | H5: 4.26 | I5: 9.95 | J5: 85.04 | K5: 8.84 | L5: 11.15
A6: Отвальные хвосты | B6: 82.69 | C6: 0.1 | D6: 0.14 | E6: 0.3 | F6: 0.27 | G6: 26.31 | H6: 3.77 | I6: 8.34 | J6: 4.95 | K6: 28.12 | L6: 21.28
A7: Руда | B7: 100 | C7: 2.1 | D7: 1.39 | E7: 5.07 | F7: 0.8 | G7: 102.24 | H7: 100 | I7: 100 | J7: 100 | K7: 100 | L7: 100

Sheet цены и инфл
C2: Прогнозные цены на металлы согласно допущениям по Группе (Group Project assumptions)
D3: 2024 | E3: 2025 | F3: 2026 | G3: 2027 | H3: 2028 | I3: 2029 | J3: 2030 | K3: 2031 | L3: 2032 | M3: 2033 | N3: 2034 | O3: 2035 г. | P3: 2036 г. | Q3: 2037 г. | R3: 2038 г. | S3: 2039 г. | T3: 2040 г.
B4: Медь катодная | C4: $/тн | D4: 8600 | E4: 9500 | F4: 9200 | G4: 8551.2141 | H4: 8722.2383 | I4: 8896.6831 | J4: 9074.6168 | K4: 9256.1091 | L4: 9441.2313 | M4: 9630.0559 | N4: 9822.657 | O4: 10019.11 | P4: 10219.492 | Q4: 10423.882 | R4: 10632.36 | S4: 10845.007 | T4: 11061.907
B5: Цинк | C5: $/тн | D5: 2600 | E5: 2600 | F5: 2800 | G5: 2706.0804 | H5: 2760.202 | I5: 2815.406 | J5: 2871.7142 | K5: 2929.1485 | L5: 2987.7314 | M5: 3047.486 | N5: 3108.4358 | O5: 3170.6045 | P5: 3234.0166 | Q5: 3298.6969 | R5: 3364.6708 | S5: 3431.9643 | T5: 3500.6035
B6: Золото | C6: $/тр.унц | D6: 1900 | E6: 1600 | F6: 1600 | G6: 1623.6482 | H6: 1656.1212 | I6: 1689.2436 | J6: 1723.0285 | K6: 1757.4891 | L6: 1792.6389 | M6: 1828.4916 | N6: 1865.0615 | O6: 1902.3627 | P6: 1940.4099 | Q6: 1979.2181 | R6: 2018.8025 | S6: 2059.1786 | T6: 2100.3621
B7: Серебро | C7: $/тр.унц | D7: 23 | E7: 21 | F7: 21 | G7: 22.731075 | H7: 23.185697 | I7: 23.649411 | J7: 24.122399 | K7: 24.604847 | L7: 25.096944 | M7: 25.598883 | N7: 26.11086 | O7: 26.633078 | P7: 27.165739 | Q7: 27.709054 | R7: 28.263235 | S7: 28.8285 | T7: 29.40507
B8: Свинец | C8: $/тн | D8: 2000 | E8: 2000 | F8: 2000 | G8: 1948.3779 | H8: 1987.3454 | I8: 2027.0924 | J8: 2067.6342 | K8: 2108.9869 | L8: 2151.1666 | M8: 2194.19 | N8: 2238.0738 | O8: 2282.8352 | P8: 2328.4919 | Q8: 2375.0618 | R8: 2422.563 | S8: 2471.0143 | T8: 2520.4346
C15: Цены на товарную продукцию для расчета доходов
B16: Медь катодная | C16: $/тн | D16: 8084 | E16: =D16/D4*E4 -> 8930 | F16: =E16/E4*F4 -> 8648 | G16: =F16/F4*G4 -> 8038.1412 | H16: =G16/G4*H4 -> 8198.904 | I16: =H16/H4*I4 -> 8362.8821 | J16: =I16/I4*J4 -> 8530.1398 | K16: =J16/J4*K4 -> 8700.7426 | L16: =K16/K4*L4 -> 8874.7574 | ... T16: =S16/S4*T4 -> 10398.193
B17: Золото в слитках | C17: $/тр.унц | D17: 1898.67 | E17: =D17/D6*E6 -> 1598.88 | F17: =E17/E6*F6 -> 1598.88 | G17: =F17/F6*G6 -> 1622.5117 | H17: =G17/G6*H6 -> 1654.9619 | I17: =H17/H6*I6 -> 1688.0612 | J17: =I17/I6*J6 -> 1721.8224 | K17: =J17/J6*K6 -> 1756.2588 | L17: =K17/K6*L6 -> 1791.384 | ... T17: =S17/S6*T6 -> 2098.8919
B18: Золото в слитках | C18: $/гр | D18: 61.043658 | E18: =D18/D6*E6 -> 51.405186 | F18: =E18/E6*F6 -> 51.405186 | G18: =F18/F6*G6 -> 52.164962 | H18: =G18/G6*H6 -> 53.208261 | I18: =H18/H6*I6 -> 54.272426 | J18: =I18/I6*J6 -> 55.357875 | K18: =J18/J6*K6 -> 56.465033 | L18: =K18/K6*L6 -> 57.594333 | ... T18: =S18/S6*T6 -> 67.480941
B19: Серебро в слитках | C19: $/тр.унц | D19: 22.563 | E19: =D19/D7*E7 -> 20.601 | F19: =E19/E7*F7 -> 20.601 | G19: =F19/F7*G7 -> 22.299185 | H19: =G19/G7*H7 -> 22.745169 | I19: =H19/H7*I7 -> 23.200072 | J19: =I19/I7*J7 -> 23.664073 | K19: =J19/J7*K7 -> 24.137355 | L19: =K19/K7*L7 -> 24.620102 | ... T19: =S19/S7*T7 -> 28.846373
B20: Серебро в слитках | C20: $/кг | D20: 725.41729 | E20: =D20/D7*E7 -> 662.33753 | F20: =E20/E7*F7 -> 662.33753 | G20: =F20/F7*G7 -> 716.93544 | H20: =G20/G7*H7 -> 731.27415 | I20: =H20/H7*I7 -> 745.89964 | J20: =I20/I7*J7 -> 760.81763 | K20: =J20/J7*K7 -> 776.03398 | L20: =K20/K7*L7 -> 791.55466 | ... T20: =S20/S7*T7 -> 927.43244
B21: Цинк в цинковом концентрате | C21: $/тн Zn | D21: 1482.077 | E21: =D21/D5*E5 -> 1482.077 | F21: =E21/E5*F5 -> 1596.0829 | G21: =F21/F5*G5 -> 1542.546 | H21: =G21/G5*H5 -> 1573.3969 | I21: =H21/H5*I5 -> 1604.8648 | J21: =I21/I5*J5 -> 1636.9621 | K21: =J21/J5*K5 -> 1669.7014 | L21: =K21/K5*L5 -> 1703.0954 | ... T21: =S21/S5*T5 -> 1995.4477
B22: Свинец в свинцовом концентрате | C22: $/тн Pb | D22: 1998.5127 | E22: 1946.357 | F22: 1946.357 | G22: 1944.4088 | H22: 1985.7201 | I22: 2034.1289 | J22: 2083.5059 | K22: 2133.8705 | L22: 2185.2423 | M22: 2237.6416 | N22: 2291.0888 | O22: =N22/N8*O8 -> 2336.9106 | P22: =O22/O8*P8 -> 2383.6488 | Q22: =P22/P8*Q8 -> 2431.3218 | R22: =Q22/Q8*R8 -> 2479.9482 | S22: =R22/R8*S8 -> 2529.5472 | T22: =S22/S8*T8 -> 2580.1382
C24: Инфляция
C25: ед. изм | D25: 2024 | E25: 2025 | F25: 2026 | G25: 2027 | H25: 2028 | I25: 2029 | J25: 2030 | K25: 2031 | L25: 2032 | M25: 2033 | N25: 2034 | O25: 2035 | P25: 2036 | Q25: 2037 | R25: 2038 | S25: 2039 | T25: 2040
B26: INFLATION ASSUMPTIONS (nominal)
B27: United States | C27: % | D27: 0.02 | E27: 0.02 | F27: 0.02 | G27: 0.02 | H27: 0.02 | I27: 0.02 | J27: 0.02 | K27: 0.02 | L27: 0.02 | M27: 0.02 | N27: 0.02 | O27: 0.02 | P27: 0.02 | Q27: 0.02 | R27: 0.02 | S27: 0.02 | T27: 0.02
B28: Operations:
B29: East Region operations | C29: % | D29: 0 | E29: 0.008 | F29: 0.031 | G29: 0.037 | H29: 0.02 | I29: 0.02 | J29: 0.02 | K29: 0.02 | L29: 0.02 | M29: 0.02 | N29: 0.02 | O29: 0.02 | P29: 0.02 | Q29: 0.02 | R29: 0.02 | S29: 0.02 | T29: 0.02
B31: Capital expenditure | C31: % | D31: 0 | E31: 0.02 | F31: 0.026 | G31: 0.026 | H31: 0.02 | I31: 0.02 | J31: 0.02 | K31: 0.02 | L31: 0.02 | M31: 0.02 | N31: 0.02 | O31: 0.02 | P31: 0.02 | Q31: 0.02 | R31: 0.02 | S31: 0.02 | T31: 0.02

Sheet Инфл. тенге
C2: МРП | E2: Курс доллара, тг | F2: мрп к курсу
B3: 2011 | C3: 1512 | E3: 146.1 | F3: =C3/E3 -> 10.349076
B4: 2012 | C4: 1618 | D4: =ROUND(C4/C3-1,4) -> 0.0701 | E4: 150.2 | F4: =C4/E4 -> 10.772304
B5: 2013 | C5: 1731 | D5: =ROUND(C5/C4-1,4) -> 0.0698 | E5: 153.8 | F5: =C5/E5 -> 11.254876
B6: 2014 | C6: 1852 | D6: =ROUND(C6/C5-1,4) -> 0.0699 | E6: 182.1 | F6: =C6/E6 -> 10.170236
B7: 2015 | C7: 1982 | D7: =ROUND(C7/C6-1,4) -> 0.0702 | E7: 187.5 | F7: =C7/E7 -> 10.570667
B8: 2016 | C8: 2121 | D8: =ROUND(C8/C7-1,4) -> 0.0701 | E8: 353.7 | F8: =C8/E8 -> 5.9966073
B9: 2017 | C9: 2269 | D9: =ROUND(C9/C8-1,4) -> 0.0698 | E9: 335.2 | F9: =C9/E9 -> 6.7690931
B10: 2018 | C10: 2405 | D10: =ROUND(C10/C9-1,4) -> 0.0599 | E10: 349.7 | F10: =C10/E10 -> 6.8773234
B11: 2019 | C11: 2525 | D11: =ROUND(C11/C10-1,4) -> 0.0499 | E11: 382.75 | F11: =C11/E11 -> 6.5969954
B12: 2020 | C12: 2651 | D12: =ROUND(C12/C11-1,4) -> 0.0499 | E12: 413 | F12: =C12/E12 -> 6.4188862
B13: 2021 | C13: 2917 | D13: =ROUND(C13/C12-1,4) -> 0.1003 | E13: 426 | F13: =C13/E13 -> 6.8474178
B14: 2022 | C14: 3063 | D14: =ROUND(C14/C13-1,4) -> 0.0501 | E14: 460.5 | F14: =C14/E14 -> 6.6514658
B15: 2023 | C15: 3450 | D15: =ROUND(C15/C14-1,4) -> 0.1263 | E15: 456.3 | F15: =C15/E15 -> 7.5608153
... B20: 2028 | C20: 4552 | D20: =ROUND(C20/C19-1,4) -> 0.0501 | E20: 450 | F20: =C20/E20 -> 10.115556

Sheet П и Р для залежей
A1: Залежи | B1: Потери | C1: Разубож
A2: Кам | B2: 7 | C2: 12.2
A3: Талов | B3: 7.72 | C3: 12.78
A4: Осн | B4: 7.2 | C4: 12.9
A5: Промеж | B5: 11.4 | C5: 13.6
A6: Восточ | B6: 7.2 | C6: 12.3
A7: Юго-Вост | B7: 6.2 | C7: 10.9
A8: Запад | B8: 7.4 | C8: 11.3
A9: Центр | B9: 7.4 | C9: 11.3
A10: Итого | B10: 7.54 | C10: 12.13

Sheet изв металл
A1: Продолжение приложения Б
A2: Таблица Б6 - Показатели извлечения на металлургическом переделе
A4: Извлечение металлов на металлургическом переделе в готовую продукцию, в зависимости от содержания Ме в сырье
A6: Металл | B6: Содержание в сырье,%:
B7: min | C7: max | D7: Извлечение, %
A8: Cu | C8: 14.99 | D8: Zос = (Y – 1,5%) / Y*100, где Y – факт сод меди, %
B9: 15 | C9: 17.99 | D9: 92.5
B10: 18 | C10: 19.99 | D10: 93
B11: 20 | C11: 22 | D11: 93.5
B12: 22.01 | C12: и выше | D12: 94
A14: Металл | B14: Содержание в сырье,г/т: | D14: Извлечение, % | E14: Извлечение до Шламов Медеэлектр, %
B15: min | C15: max
A16: Au | B16: 0 | C16: 1 | D16: 0 | E16: 0
B17: 1.1 | C17: 3 | D17: 90 | E17: 91.27
B18: 3.1 | C18: 5 | D18: 92 | E18: 93.3
B19: 5.1 | C19: 8 | D19: 93.5 | E19: 94.82
B20: 8.1 | C20: 10 | D20: 94.5 | E20: 95.84
B21: 10.1 | C21: и выше | D21: 95 | E21: 96.34
A23: Металл | B23: Содержание в сырье,г/т: | D23: Извлечение, % | E23: Извлечение до Шламов Медеэлектр, %
B24: min | C24: max
A25: Ag | C25: 29.9 | D25: 0 | E25: 0
B26: 30 | C26: и выше | D26: 90 | E26: 92.78

Sheet ОС
D2: ОС НОФ (тыс. тенге) | E2: ОС АШ (тыс. тенге) | F2: Всего | G2: ОС НОФ (kUSD) | H2: ОС АШ (kUSD) | I2: Всего
